2.43840000
0.00000000
0.00000000
-2.43840000
584067.89836060
5248153.43000179
