2.43840000
0.00000000
0.00000000
-2.43840000
593593.91599449
5248314.20185437
