2.43840000
0.00000000
0.00000000
-2.43840000
574899.49650177
5234116.96858894
