2.43840000
0.00000000
0.00000000
-2.43840000
641442.17691394
5221561.02741239
