2.43840000
0.00000000
0.00000000
-2.43840000
648413.22468113
5319049.66128557
