2.43840000
0.00000000
0.00000000
-2.43840000
657736.03630427
5319317.78852889
