2.43840000
0.00000000
0.00000000
-2.43840000
648771.53351887
5305159.79972988
