2.43840000
0.00000000
0.00000000
-2.43840000
695967.84112164
5292750.19871764
