2.43840000
0.00000000
0.00000000
-2.43840000
715223.24239674
5279590.63717893
