2.43840000
0.00000000
0.00000000
-2.43840000
687945.24778672
5250751.78326650
