2.43840000
0.00000000
0.00000000
-2.43840000
669482.48594566
5236250.03993999
