2.43840000
0.00000000
0.00000000
-2.43840000
688840.08286302
5222968.84587522
