2.43840000
0.00000000
0.00000000
-2.43840000
717278.00002682
5223997.54214700
