2.43840000
0.00000000
0.00000000
-2.43840000
330943.33631735
5319317.78852889
