2.43840000
0.00000000
0.00000000
-2.43840000
274308.33628452
5307340.08144165
