2.43840000
0.00000000
0.00000000
-2.43840000
283589.61023247
5306986.50865940
