2.43840000
0.00000000
0.00000000
-2.43840000
339908.91223506
5305159.79972988
