2.43840000
0.00000000
0.00000000
-2.43840000
273775.94785401
5293447.79275190
