2.43840000
0.00000000
0.00000000
-2.43840000
283162.04178581
5293092.11527694
