2.43840000
0.00000000
0.00000000
-2.43840000
292465.61038494
5292753.40903756
