2.43840000
0.00000000
0.00000000
-2.43840000
310909.63586089
5278216.81635549
