2.43840000
0.00000000
0.00000000
-2.43840000
338770.11727949
5263483.82063514
