2.43840000
0.00000000
0.00000000
-2.43840000
291084.04921372
5251076.68653032
