2.43840000
0.00000000
0.00000000
-2.43840000
338389.54222227
5249593.90929582
