2.43840000
0.00000000
0.00000000
-2.43840000
300076.16354882
5236860.32058798
