2.43840000
0.00000000
0.00000000
-2.43840000
338009.71121353
5235703.15234134
