2.43840000
0.00000000
0.00000000
-2.43840000
290102.66634095
5223298.67358679
