2.43840000
0.00000000
0.00000000
-2.43840000
299615.84386609
5222969.95707409
