2.43840000
0.00000000
0.00000000
-2.43840000
377690.58198508
5317984.00453089
