2.43840000
0.00000000
0.00000000
-2.43840000
415089.20204199
5317469.37334787
