2.43840000
0.00000000
0.00000000
-2.43840000
368024.66362442
5304452.57680891
