2.43840000
0.00000000
0.00000000
-2.43840000
386768.76069613
5304055.66985328
