2.43840000
0.00000000
0.00000000
-2.43840000
376818.42365619
5276461.70899382
