2.43840000
0.00000000
0.00000000
-2.43840000
395648.44987246
5276098.25917876
