2.43840000
0.00000000
0.00000000
-2.43840000
357648.16307408
5262996.62942904
