2.43840000
0.00000000
0.00000000
-2.43840000
356984.54836173
5235213.20586737
