2.43840000
0.00000000
0.00000000
-2.43840000
375946.07782324
5234788.74290242
