2.43840000
0.00000000
0.00000000
-2.43840000
394673.44853315
5220532.59624202
