2.43840000
0.00000000
0.00000000
-2.43840000
413677.87308937
5220227.06601422
