2.43840000
0.00000000
0.00000000
-2.43840000
424257.58886096
5303444.55772786
