2.43840000
0.00000000
0.00000000
-2.43840000
443005.93982940
5303229.18450169
