2.43840000
0.00000000
0.00000000
-2.43840000
452376.76527744
5303145.89222957
