2.43840000
0.00000000
0.00000000
-2.43840000
471124.50155366
5303021.30654939
