2.43840000
0.00000000
0.00000000
-2.43840000
423903.29524451
5275658.55117743
