2.43840000
0.00000000
0.00000000
-2.43840000
433322.62709637
5275543.76620976
