2.43840000
0.00000000
0.00000000
-2.43840000
433161.50254253
5261654.02743437
