2.43840000
0.00000000
0.00000000
-2.43840000
452046.47982876
5261465.36035967
