2.43840000
0.00000000
0.00000000
-2.43840000
461391.96569326
5247507.56641150
