2.43840000
0.00000000
0.00000000
-2.43840000
480318.38978061
5247413.11307381
