2.43840000
0.00000000
0.00000000
-2.43840000
508588.32352358
5302982.27449363
